BEGIN:VCALENDAR
VERSION:2.0
PRODID:-//Efecto Laguna - ECPv6.15.17.1//NONSGML v1.0//EN
CALSCALE:GREGORIAN
METHOD:PUBLISH
X-WR-CALNAME:Efecto Laguna
X-ORIGINAL-URL:https://efectolaguna.es
X-WR-CALDESC:Eventos para Efecto Laguna
REFRESH-INTERVAL;VALUE=DURATION:PT1H
X-Robots-Tag:noindex
X-PUBLISHED-TTL:PT1H
BEGIN:VTIMEZONE
TZID:UTC
BEGIN:STANDARD
TZOFFSETFROM:+0000
TZOFFSETTO:+0000
TZNAME:UTC
DTSTART:20220101T000000
END:STANDARD
END:VTIMEZONE
BEGIN:VEVENT
DTSTART;TZID=UTC:20240110T080000
DTEND;TZID=UTC:20240110T170000
DTSTAMP:20260423T121839
CREATED:20231212T153014Z
LAST-MODIFIED:20240110T153051Z
UID:1704-1704873600-1704906000@efectolaguna.es
SUMMARY:Vuelve el contrabando cultural de Piratas Ilustrados
DESCRIPTION:En este año 2023 Reciclown Teatro ha vuelto a la carga\, una carga suave\, cultural: ha vuelto a poner en marcha su proyecto Contrabando. Poniendo en contexto la palabra contrabando\, que rápidamente empuja a la mente a la imaginación del tráfico de a saber qué mercancía inmersa en sospechosas circunstancias. Nada que temer. \nAl contrario\, con Reciclown Teatro se hace referencia al contrabando de cartas que desde hace tiempo realiza tras representar su obra ‘Piratas Ilustrados’\, esta vez en algunos centros educativos de San Cristóbal de La Laguna. \n‘Piratas Ilustrados’ versa sobre una estirpe de la piratería que\, en lugar de tesoros convencionales\, busca\, transporta libros y lecturas. En las funciones del proyecto se invita al alumnado a convertirse a esa singular estirpe\, a escribir textos y cartas con destino a otros centros educativos. \nMás tarde la compañía teatral vuelve e introduce su alijo literario en un cofre que lleva a otro centro. Esto se produce con el apoyo del Gobierno de Canarias a través del ICDC\, Instituto Canario de Desarrollo Cultural\, los cuales patrocinan desde hace dos años la propuesta.
URL:https://efectolaguna.es/event/vuelve-el-contrabando-cultural-de-piratas-ilustrados/
CATEGORIES:Artes escénicas
ATTACH;FMTTYPE=image/jpeg:https://efectolaguna.es/wp-content/uploads/2023/12/Contrabando1.jpeg
END:VEVENT
BEGIN:VEVENT
DTSTART;TZID=UTC:20231206T080000
DTEND;TZID=UTC:20231206T170000
DTSTAMP:20260423T121839
CREATED:20231130T090040Z
LAST-MODIFIED:20231212T143034Z
UID:1586-1701849600-1701882000@efectolaguna.es
SUMMARY:Txabi Franquesa lleva a Ábaco con su último espectáculo\, ‘Escocía’
DESCRIPTION:– La actuación del artista catalán tendrá lugar el próximo 6 de diciembre en el espacio cultural del Puerto de la Cruz \nEl Espacio Cultural Ábaco del Puerto de la Cruz (Cmo Casa Grande\, 14) acogerá el próximo 6 de diciembre la actuación del humorista Txabi Franquesa\, quien regresa a Tenerife para representar su último espectáculo\, ‘Escocía’. La cita tendrá lugar a partir de las 20:00 horas. Las entradas\, al precio de 20 euros\, se pueden conseguir a través de la web www.titostenerife.com y en el propio espacio cultural. \nFranquesa\, famoso por sus intervenciones en programas y películas icónicas como ‘Caiga quien caiga’\, ‘El club de la comedia’ u ‘Ocho apellidos vascos’\, presenta ‘Escocía’ como su espectáculo más maduro\, “y con esto está claro que no puedo engañar a nadie\,  porque inevitablemente\, el último siempre es el más maduro”.  \nEste nuevo monólogo de humor surge del ‘escozor generacional\, de la lucha de un hombre ya en los 40\, a caballo entre la juventud y la vejez. \nUna batalla a cara de perro que llega a Casa Ábaco contra la dicotomía de quien se siente joven\, pero su realidad muestra a una persona que está más cerca del Imserso que del movimiento universitario.  \nEsta condición le genera un constante debate entre el optimismo y el pesimismo. ‘Escocía’ es un show familiar\, indicado tanto para nostálgicos como para jóvenes futuristas. Lo que queda claro con esta nueva propuesta es que\, fiel al estilo que lo ha convertido en uno de los humoristas más reconocidos del país\, Txabi Franquesa sigue en pie en guerra y no se va a callar nada. Él es el abanderado de la furia inofensiva’
URL:https://efectolaguna.es/event/txabi-franquesa-lleva-a-abaco-con-su-ultimo-espectaculo-escocia/
LOCATION:Espacio Cultural Ábaco\, Cmo Casa Grande\, 14\, Puerto de la Cruz\, Santa Cruz de Tenerife\, 38400
CATEGORIES:Artes escénicas
ATTACH;FMTTYPE=image/jpeg:https://efectolaguna.es/wp-content/uploads/2023/11/Txabi-Franquesa.jpg
END:VEVENT
BEGIN:VEVENT
DTSTART;TZID=UTC:20231130T080000
DTEND;TZID=UTC:20231130T170000
DTSTAMP:20260423T121839
CREATED:20231130T091212Z
LAST-MODIFIED:20231212T143103Z
UID:1605-1701331200-1701363600@efectolaguna.es
SUMMARY:TenerifeLAV celebra diez años de vida y incorpora importantes novedades a su programación anual
DESCRIPTION:– El Laboratorio de Artes Vivas y Ciudadanía llega a su décimo aniversario como referente nacional para las artes vivas: más de 300 artistas y 10.000 personas en torno a la escena contemporánea. \n El espacio La Granja del Santa Cruz de Tenerife acogió esta mañana el acto de presentación del programa de actividades del décimo aniversario del TenerifeLAV\, Laboratorio de Artes Vivas\, un proyecto de investigación\, creación y mediación en artes vivas que desde 2012 desarrolla residencias artísticas\, mediaciones vivas y otras actividadesde pensamiento y acción críticos en colaboración con entidades públicas y privadas\, operando desde y sobre el territorio insular. \n El proyecto llega en este 2022  a sus diez primeros años de trayectoria estable y referente en la articulación de recursos y en la creación y conservación de vínculos de afecto\, cuidado y compromiso al servicio de las y los artistas y de sus procesos de trabajo en conexióncon las personas y con el territorio y con múltiples repercusionesen los ámbitos local\, regional\, nacional e internacional. Reconocido en 2021 como proyecto ponente por el Ministerio de Cultura y Deportes a través de la Dirección General de Industrias Culturales en los VII Encuentros de Cultura y Ciudadanía\, así como por el Ministerio de Derechos Sociales y Agenda 2030 y las VII Jornadas Escénicas INJUVE. \nEn este acto de presentación estuvieron los y las representantes de las intuciones públicas y privadas que colaboran  y patrocinan el TenerifeLAV: Laura Fuentes Vega\, Directora General de Juventud del Gobierno de Canarias; Lorena Matute Rojas\, Responsable de AAEE de ICDC/ Gobierno de Canaria; Yaiza López Landi\, Concejala de Cultura del Ayuntamiento de La Laguna; Alfonso Cabello\, concejal de Fiestas del Ayuntamiento de Santa Cruz de Tenerife; Sandra Santana Pérez\, Vicedecana de Cultura y Extensión de la Facultad de Bellas / y ULL; Lola Barrena Delgado y Dalia De La Rosa\, Solar Acción Cultural Sociedad-Lugar-Arte. \nJavier Cuevas\, director de TenerifeLAV\, destacó en su intervención ante los medios de comunicación\, que “con la idea de Isla como espacio político central para la una mirada atenta y feminista hacia procesos artísticos frágiles y reflexivos en artes vivas\, el LAV afronta una nueva década en la que conserva sus actividades de referencia (el Programa de Residencias Artísticas y de Mediaciones Vivas con la ciudadanía en el que han participado más de 300 artistas desde su puesta en marcha)\, al tiempo que se expande y genera nuesvos proyectos y alianzas con nuevos partners insluares\, nacionales e internacionales. \nEn este sentido y de cara al periodo 2022-2023\, el Laboratorio plantea nuevos hitos y espacios de trabajo: consolida y expande El parlamento del futuro\, un proyecto de cuerpo\, movimiento\, pensamiento crítico y música electrónica para jóvenes y adolescentescreado junto a la Dirección General de Juventud del Gobierno de Canarias que esta temporada también tendrá activaciones en la provincia de Buenos Aires (Argentina) junto a la productora Virginia Fornillo\,en Irlanda de la mano de la plataforma internacional Tipperary Dance y en el Espacio La Granja (ICDC) con una Sede Permanente dirigida a centros de educación secundaria de la isla de Tenerife. \nEstrena Foco a las masculinidades\, un proyecto de creación escénica y mediaciónen valoresdirigido por el artista y agente cultural Luis Lorite dentro del PlanCorresponsables (Viceconsejería de Igualdad y Diversidad del Gobierno de Canarias y Ministerio de Igualdad del Gobierno de España). Foco a las masculinidadesse presentará ya antes de final de este año 2022 junto a jóvenes estudiantes de secundaria en 13 institutos de toda Canarias. \nTambién en este último trimestre de 2022 y en colaboración con la plataforma Garage Collective Plattform for Independent Artists (Bulgaria)\, el Laboratorio de Artes Vivas y Ciudadanía activará el contexto teórico-práctico para la danza Centro Coreográfico Imaginativo de Tenerife\,un programa de encuentros\, talleres y piezas escénicas en colaboración con Espacio La Granja\, la Biblioteca Pública del Estado\, Espacio R del Organismo Autónomo de Cultura del Ayuntamiento de Santa Cruz de Tenerife y del Centro Cultural de El Sauzal.  \nYa en 2023 presentará el innovador Programa LAVUp! de impulso a los y las jóvenes intérpretes y creadoras de la danza en Canarias (junto a la Dirección General deJuventud del Gobierno de Canarias)\, un proyecto de apoyo económico\, movilidad\, mentorización y acompañamiento profesional a 6 artistas menores de 30 añosdel archipiélago en colaboración con seis contextos nacionales e internacionales en España\, Bélgica\, Irlanda y Bulgaria. \nY reeditará junto al Teatro Leal La Laguna la III Edición de Dance Inter Faces Canary Islands\, el tercer encuentro bienal de prescriptores/as y curadores/as internacionalesen torno a la danza y las prácticas contemporáneas de cuerpo y movimiento generadas en Canarias y por artistas de Canarias en la diáspora. Una tercera edición que\, de nuevo\, abrirá una ventana al exterior para las creaciones y artistas más relevantes del contexto insular y que volverá a proponer encuentros\, charlas y coloquios -junto a importantes perfiles profesionales-así como8 muestras escénicas seleccionadas en convocatoria pública\, abiertas a profesionales y ciudadanía de forma gratuita en las salas Principal y de Cámara del Teatro Leal de La Laguna. Un evento que convierte a la ciudad de la Laguna en su año de presidencia del Grupo Cuidades Patrimonio de la Humanidad de España\, en epicentro nacional e internacional para la promoción y la conservación de la danza y del patrimonio cultural vivo creado en las Islas Canarias. \nEl Laboratorio de Artes Vivas y Ciudadanía comenzará el próximo 2023formando parte del proyecto europeo Island Connect- EU Creative Europe junto a Bækkelund International Residency Center for Artists (Dinamarca)\, Domino (Croacia)\, Irish Aerial Creation Centre (Irlanda)\, Theatre Alibi (Inglaterra)\, Centre d’Investigació Escènica Sineu (Islas Baleares) y SardegnaTeatro (Cedeña). Un proyecto global que incide en las relaciones de cogobernanza y las economías creativas entre islas y regiones ultraperiféricas en Europa\, y que servirá de extraordinario impulso a la creación y a la maduración de las artes vivas contemporáneas de Canarias mediante acciones de intercambio\, de formación\, de reflexión y de mediación para las y los artistas de Canarias en estrecho vínculo con nuevos contextos y profesionales internacionales.
URL:https://efectolaguna.es/event/tenerifelav-celebra-diez-anos-de-vida-y-incorpora-importantes-novedades-a-su-programacion-anual/
CATEGORIES:Artes escénicas
ATTACH;FMTTYPE=image/jpeg:https://efectolaguna.es/wp-content/uploads/2023/11/TenerifeLAV.jpg
END:VEVENT
BEGIN:VEVENT
DTSTART;TZID=UTC:20231130T080000
DTEND;TZID=UTC:20231130T170000
DTSTAMP:20260423T121839
CREATED:20231130T083547Z
LAST-MODIFIED:20231130T083547Z
UID:1553-1701331200-1701363600@efectolaguna.es
SUMMARY:Magec Sunset Ritual en Papagayo Beach Club
DESCRIPTION:– Este especial encuentro en el que se recuperarán ritos ancestrales se iniciará cada domingo a partir de las cuatro de la tarde \nMagec Sunset Ritual se abre paso en la programación regular de Papagayo Beach Club de Arona con una oferta semanal en la tarde los domingos que aunará música\, gastronomía y espectáculos especiales.  \nEsta propuesta artística recupera la esencia del culto al Sol y al Universo como rito ancestral que acompaña al ser humano desde tiempos inmemoriales\, empujado por la necesidad innata de buscar respuestas a los mecanismos que mueven la vida y todos los ciclos que conforman nuestro bagaje espiritual.  \nRememorando estas antiguas historias populares\, Papagayo Beach Club ofrecerá cada domingo\, a partir de las 16:00 horas\, un evento en el que se combinará el sonido de cabina -con el dj residente Carlos Chávez- con un ritual centenario en el que los asistentes podrán ofrecer sus deseos al fuego para que Magec los haga realidad.  \nTodo esto irá acompañado de percusión\, actuaciones especiales y un momento de emoción en silencio mientras se consuma la puesta de sol\, tras lo cual se produce el climax cuando el público rompe en una fuerte ovación para recibir a la noche. \nSiguiendo la estela emocional y legendaria de estas prácticas\, tan ancestrales como unidas a nuestros propios orígenes identitarios\, Papagayo Beach Club pone en marcha una nueva iniciativa diurna cuyo eje principal gira en torno a la figura de esta importante entidad mitológica. 
URL:https://efectolaguna.es/event/magec-sunset-ritual-en-papagayo-beach-club/
LOCATION:Papagayo Beach Club\, Av. Rafael Puig Lluvina\, 2\, Playa de la Américas\, Santa Cruz de Tenerife\, Santa Cruz de Tenerife\, 38650\, España
CATEGORIES:Artes escénicas
ATTACH;FMTTYPE=image/jpeg:https://efectolaguna.es/wp-content/uploads/2023/11/Sunset-Papagayo1.jpeg
END:VEVENT
END:VCALENDAR